Package: hdxmsqc Version: 1.2.0 Command: rm -rf hdxmsqc.buildbin-libdir && mkdir hdxmsqc.buildbin-libdir && F:\biocbuild\bbs-3.20-bioc\R\bin\R.exe CMD INSTALL --build --library=hdxmsqc.buildbin-libdir hdxmsqc_1.2.0.tar.gz StartedAt: 2025-01-28 08:19:11 -0500 (Tue, 28 Jan 2025) EndedAt: 2025-01-28 08:19:56 -0500 (Tue, 28 Jan 2025) EllapsedTime: 45.0 seconds RetCode: 0 Status: OK PackageFile: hdxmsqc_1.2.0.zip PackageFileSize: 3.296 MiB