Package: hdxmsqc Version: 1.2.0 Command: /home/biocbuild/bbs-3.20-bioc/R/bin/R CMD INSTALL hdxmsqc StartedAt: 2025-03-31 15:37:17 -0400 (Mon, 31 Mar 2025) EndedAt: 2025-03-31 15:37:46 -0400 (Mon, 31 Mar 2025) EllapsedTime: 29.7 seconds RetCode: 0 Status: OK