Package: hdxmsqc Version: 1.2.0 Command: /home/biocbuild/R/R/bin/R CMD check --install=check:hdxmsqc.install-out.txt --library=/home/biocbuild/R/R/site-library --no-vignettes --timings hdxmsqc_1.2.0.tar.gz StartedAt: 2024-11-20 08:41:52 -0000 (Wed, 20 Nov 2024) EndedAt: 2024-11-20 08:47:23 -0000 (Wed, 20 Nov 2024) EllapsedTime: 330.5 seconds RetCode: 0 Status: OK CheckDir: hdxmsqc.Rcheck Warnings: 0