Package: hdxmsqc Version: 1.2.0 Command: /home/biocbuild/R/R/bin/R CMD build --keep-empty-dirs --no-resave-data hdxmsqc StartedAt: 2024-11-20 01:19:40 -0000 (Wed, 20 Nov 2024) EndedAt: 2024-11-20 01:25:31 -0000 (Wed, 20 Nov 2024) EllapsedTime: 351.3 seconds RetCode: 0 Status: OK PackageFile: hdxmsqc_1.2.0.tar.gz PackageFileSize: 2.855 MiB