Package: hca Version: 1.14.0 Command: rm -rf hca.buildbin-libdir && mkdir hca.buildbin-libdir && F:\biocbuild\bbs-3.20-bioc\R\bin\R.exe CMD INSTALL --build --library=hca.buildbin-libdir hca_1.14.0.tar.gz StartedAt: 2025-01-28 08:19:02 -0500 (Tue, 28 Jan 2025) EndedAt: 2025-01-28 08:19:28 -0500 (Tue, 28 Jan 2025) EllapsedTime: 25.7 seconds RetCode: 0 Status: OK PackageFile: hca_1.14.0.zip PackageFileSize: 599.2 KiB