Package: hca Version: 1.14.0 Command: /Library/Frameworks/R.framework/Resources/bin/R CMD build --keep-empty-dirs --no-resave-data hca StartedAt: 2025-01-27 19:35:17 -0500 (Mon, 27 Jan 2025) EndedAt: 2025-01-27 19:44:13 -0500 (Mon, 27 Jan 2025) EllapsedTime: 536.2 seconds RetCode: 0 Status: OK PackageFile: hca_1.14.0.tar.gz PackageFileSize: 488.5 KiB