Package: hca Version: 1.14.0 Command: rm -rf hca.buildbin-libdir && mkdir hca.buildbin-libdir && /Users/biocbuild/BBS/utils/build-universal.sh hca_1.14.0.tar.gz /Library/Frameworks/R.framework/Resources/bin/R hca.buildbin-libdir StartedAt: 2025-01-28 13:22:26 -0500 (Tue, 28 Jan 2025) EndedAt: 2025-01-28 13:22:49 -0500 (Tue, 28 Jan 2025) EllapsedTime: 23.0 seconds RetCode: 0 Status: OK PackageFile: hca_1.14.0.tgz PackageFileSize: 591.4 KiB