Package: hca Version: 1.14.0 Command: /Library/Frameworks/R.framework/Resources/bin/R CMD INSTALL hca StartedAt: 2025-02-03 16:44:34 -0500 (Mon, 03 Feb 2025) EndedAt: 2025-02-03 16:44:42 -0500 (Mon, 03 Feb 2025) EllapsedTime: 7.4 seconds RetCode: 0 Status: OK