Package: hca Version: 1.14.0 Command: /Library/Frameworks/R.framework/Resources/bin/R CMD check --install=check:hca.install-out.txt --library=/Library/Frameworks/R.framework/Resources/library --no-vignettes --timings hca_1.14.0.tar.gz StartedAt: 2025-01-28 21:35:14 -0500 (Tue, 28 Jan 2025) EndedAt: 2025-01-28 21:38:19 -0500 (Tue, 28 Jan 2025) EllapsedTime: 184.2 seconds RetCode: 0 Status: OK CheckDir: hca.Rcheck Warnings: 0