Package: h5vc Version: 2.40.0 Command: chmod a+r h5vc -R && F:\biocbuild\bbs-3.20-bioc\R\bin\R.exe CMD build --keep-empty-dirs --no-resave-data h5vc StartedAt: 2025-01-27 19:27:11 -0500 (Mon, 27 Jan 2025) EndedAt: 2025-01-27 19:28:18 -0500 (Mon, 27 Jan 2025) EllapsedTime: 66.5 seconds RetCode: 1 Status: ERROR PackageFile: None PackageFileSize: NA