Package: h5vc Version: 2.40.0 Command: /home/biocbuild/bbs-3.20-bioc/R/bin/R CMD check --install=check:h5vc.install-out.txt --library=/home/biocbuild/bbs-3.20-bioc/R/site-library --timings h5vc_2.40.0.tar.gz StartedAt: 2025-01-02 22:56:18 -0500 (Thu, 02 Jan 2025) EndedAt: 2025-01-02 23:02:48 -0500 (Thu, 02 Jan 2025) EllapsedTime: 390.4 seconds RetCode: 0 Status: WARNINGS CheckDir: h5vc.Rcheck Warnings: 1