Package: h5vc Version: 2.40.0 Command: /Library/Frameworks/R.framework/Resources/bin/R CMD check --install=check:h5vc.install-out.txt --library=/Library/Frameworks/R.framework/Resources/library --no-vignettes --timings h5vc_2.40.0.tar.gz StartedAt: 2025-01-03 04:42:55 -0500 (Fri, 03 Jan 2025) EndedAt: 2025-01-03 04:49:11 -0500 (Fri, 03 Jan 2025) EllapsedTime: 375.7 seconds RetCode: 0 Status: WARNINGS CheckDir: h5vc.Rcheck Warnings: 1