Package: h5vc Version: 2.40.0 Command: rm -rf h5vc.buildbin-libdir && mkdir h5vc.buildbin-libdir && /Users/biocbuild/BBS/utils/build-universal.sh h5vc_2.40.0.tar.gz /Library/Frameworks/R.framework/Resources/bin/R h5vc.buildbin-libdir StartedAt: 2025-01-03 13:37:42 -0500 (Fri, 03 Jan 2025) EndedAt: 2025-01-03 13:38:50 -0500 (Fri, 03 Jan 2025) EllapsedTime: 67.5 seconds RetCode: 0 Status: OK PackageFile: h5vc_2.40.0.tgz PackageFileSize: 2.159 MiB