Package: h5vc Version: 2.40.0 Command: /Library/Frameworks/R.framework/Resources/bin/R CMD build --keep-empty-dirs --no-resave-data h5vc StartedAt: 2024-11-08 17:38:13 -0500 (Fri, 08 Nov 2024) EndedAt: 2024-11-08 17:40:01 -0500 (Fri, 08 Nov 2024) EllapsedTime: 108.1 seconds RetCode: 0 Status: OK PackageFile: h5vc_2.40.0.tar.gz PackageFileSize: 1.69 MiB