Package: h5vc Version: 2.40.0 Command: /Library/Frameworks/R.framework/Resources/bin/R CMD check --install=check:h5vc.install-out.txt --library=/Library/Frameworks/R.framework/Resources/library --no-vignettes --timings h5vc_2.40.0.tar.gz StartedAt: 2025-01-10 21:54:06 -0500 (Fri, 10 Jan 2025) EndedAt: 2025-01-10 21:57:34 -0500 (Fri, 10 Jan 2025) EllapsedTime: 207.9 seconds RetCode: 0 Status: WARNINGS CheckDir: h5vc.Rcheck Warnings: 1