Package: gypsum Version: 1.2.0 Command: rm -rf gypsum.buildbin-libdir && mkdir gypsum.buildbin-libdir && F:\biocbuild\bbs-3.20-bioc\R\bin\R.exe CMD INSTALL --build --library=gypsum.buildbin-libdir gypsum_1.2.0.tar.gz StartedAt: 2025-02-04 08:40:32 -0500 (Tue, 04 Feb 2025) EndedAt: 2025-02-04 08:41:01 -0500 (Tue, 04 Feb 2025) EllapsedTime: 29.3 seconds RetCode: 0 Status: OK PackageFile: gypsum_1.2.0.zip PackageFileSize: 427 KiB