Package: gwasurvivr Version: 1.24.0 Command: /Library/Frameworks/R.framework/Resources/bin/R CMD check --install=check:gwasurvivr.install-out.txt --library=/Library/Frameworks/R.framework/Resources/library --no-vignettes --timings gwasurvivr_1.24.0.tar.gz StartedAt: 2025-04-01 04:04:45 -0400 (Tue, 01 Apr 2025) EndedAt: 2025-04-01 04:17:43 -0400 (Tue, 01 Apr 2025) EllapsedTime: 777.9 seconds RetCode: 0 Status: OK CheckDir: gwasurvivr.Rcheck Warnings: 0