Package: gwasurvivr Version: 1.24.0 Command: /Library/Frameworks/R.framework/Resources/bin/R CMD build --keep-empty-dirs --no-resave-data gwasurvivr StartedAt: 2025-03-31 19:14:39 -0400 (Mon, 31 Mar 2025) EndedAt: 2025-03-31 19:19:32 -0400 (Mon, 31 Mar 2025) EllapsedTime: 292.8 seconds RetCode: 0 Status: OK PackageFile: gwasurvivr_1.24.0.tar.gz PackageFileSize: 342.9 KiB