Package: gwascat Version: 2.38.0 Command: /home/biocbuild/R/R/bin/R CMD build --keep-empty-dirs --no-resave-data gwascat StartedAt: 2025-02-04 00:11:37 -0000 (Tue, 04 Feb 2025) EndedAt: 2025-02-04 00:21:31 -0000 (Tue, 04 Feb 2025) EllapsedTime: 594.4 seconds RetCode: 0 Status: OK PackageFile: gwascat_2.38.0.tar.gz PackageFileSize: 33.67 MiB