Package: gwascat Version: 2.38.0 Command: chmod a+r gwascat -R && F:\biocbuild\bbs-3.20-bioc\R\bin\R.exe CMD build --keep-empty-dirs --no-resave-data gwascat StartedAt: 2025-02-10 19:33:17 -0500 (Mon, 10 Feb 2025) EndedAt: 2025-02-10 19:36:48 -0500 (Mon, 10 Feb 2025) EllapsedTime: 210.6 seconds RetCode: 0 Status: OK PackageFile: gwascat_2.38.0.tar.gz PackageFileSize: 33.44 MiB