Package: gwascat Version: 2.38.0 Command: /home/biocbuild/bbs-3.20-bioc/R/bin/R CMD check --install=check:gwascat.install-out.txt --library=/home/biocbuild/bbs-3.20-bioc/R/site-library --timings gwascat_2.38.0.tar.gz StartedAt: 2025-02-10 22:54:46 -0500 (Mon, 10 Feb 2025) EndedAt: 2025-02-10 23:04:13 -0500 (Mon, 10 Feb 2025) EllapsedTime: 566.7 seconds RetCode: 0 Status: OK CheckDir: gwascat.Rcheck Warnings: 0