Package: gwascat Version: 2.38.0 Command: /Library/Frameworks/R.framework/Resources/bin/R CMD INSTALL gwascat StartedAt: 2025-02-03 17:29:23 -0500 (Mon, 03 Feb 2025) EndedAt: 2025-02-03 17:30:27 -0500 (Mon, 03 Feb 2025) EllapsedTime: 64.2 seconds RetCode: 0 Status: OK