Package: gtrellis Version: 1.38.0 Command: /home/biocbuild/R/R/bin/R CMD build --keep-empty-dirs --no-resave-data gtrellis StartedAt: 2025-02-04 00:10:37 -0000 (Tue, 04 Feb 2025) EndedAt: 2025-02-04 00:14:06 -0000 (Tue, 04 Feb 2025) EllapsedTime: 209.2 seconds RetCode: 0 Status: OK PackageFile: gtrellis_1.38.0.tar.gz PackageFileSize: 1.65 MiB