Package: gsean Version: 1.26.0 Command: /home/biocbuild/R/R/bin/R CMD INSTALL gsean StartedAt: 2025-01-27 21:50:15 -0000 (Mon, 27 Jan 2025) EndedAt: 2025-01-27 21:50:44 -0000 (Mon, 27 Jan 2025) EllapsedTime: 28.9 seconds RetCode: 0 Status: OK