Package: gsean Version: 1.26.0 Command: /Library/Frameworks/R.framework/Resources/bin/R CMD INSTALL gsean StartedAt: 2025-01-27 17:30:00 -0500 (Mon, 27 Jan 2025) EndedAt: 2025-01-27 17:30:27 -0500 (Mon, 27 Jan 2025) EllapsedTime: 27.2 seconds RetCode: 0 Status: OK