Package: gsean Version: 1.26.0 Command: /Library/Frameworks/R.framework/Resources/bin/R CMD check --install=check:gsean.install-out.txt --library=/Library/Frameworks/R.framework/Resources/library --no-vignettes --timings gsean_1.26.0.tar.gz StartedAt: 2025-01-28 21:22:26 -0500 (Tue, 28 Jan 2025) EndedAt: 2025-01-28 21:25:50 -0500 (Tue, 28 Jan 2025) EllapsedTime: 204.8 seconds RetCode: 0 Status: OK CheckDir: gsean.Rcheck Warnings: 0