Package: gscreend Version: 1.20.0 Command: chmod a+r gscreend -R && F:\biocbuild\bbs-3.20-bioc\R\bin\R.exe CMD build --keep-empty-dirs --no-resave-data gscreend StartedAt: 2025-01-30 19:22:14 -0500 (Thu, 30 Jan 2025) EndedAt: 2025-01-30 19:24:54 -0500 (Thu, 30 Jan 2025) EllapsedTime: 160.4 seconds RetCode: 0 Status: OK PackageFile: gscreend_1.20.0.tar.gz PackageFileSize: 3.08 MiB