Package: gscreend Version: 1.20.0 Command: /Library/Frameworks/R.framework/Resources/bin/R CMD INSTALL gscreend StartedAt: 2025-01-30 15:31:38 -0500 (Thu, 30 Jan 2025) EndedAt: 2025-01-30 15:32:31 -0500 (Thu, 30 Jan 2025) EllapsedTime: 53.4 seconds RetCode: 0 Status: OK