Package: gscreend Version: 1.20.0 Command: rm -rf gscreend.buildbin-libdir && mkdir gscreend.buildbin-libdir && /Users/biocbuild/BBS/utils/build-universal.sh gscreend_1.20.0.tar.gz /Library/Frameworks/R.framework/Resources/bin/R gscreend.buildbin-libdir StartedAt: 2025-01-29 14:56:15 -0500 (Wed, 29 Jan 2025) EndedAt: 2025-01-29 14:56:45 -0500 (Wed, 29 Jan 2025) EllapsedTime: 29.6 seconds RetCode: 0 Status: OK PackageFile: gscreend_1.20.0.tgz PackageFileSize: 3.17 MiB