Package: groHMM Version: 1.40.3 Command: chmod a+r groHMM -R && F:\biocbuild\bbs-3.20-bioc\R\bin\R.exe CMD build --keep-empty-dirs --no-resave-data groHMM StartedAt: 2025-01-27 19:22:16 -0500 (Mon, 27 Jan 2025) EndedAt: 2025-01-27 19:27:26 -0500 (Mon, 27 Jan 2025) EllapsedTime: 309.5 seconds RetCode: 0 Status: OK PackageFile: groHMM_1.40.3.tar.gz PackageFileSize: 4.14 MiB