Package: groHMM Version: 1.40.3 Command: /Library/Frameworks/R.framework/Resources/bin/R CMD build --keep-empty-dirs --no-resave-data groHMM StartedAt: 2025-02-03 19:25:02 -0500 (Mon, 03 Feb 2025) EndedAt: 2025-02-03 19:30:05 -0500 (Mon, 03 Feb 2025) EllapsedTime: 303.2 seconds RetCode: 0 Status: OK PackageFile: groHMM_1.40.3.tar.gz PackageFileSize: 4.154 MiB