Package: graphite Version: 1.52.0 Command: /home/biocbuild/R/R/bin/R CMD build --keep-empty-dirs --no-resave-data graphite StartedAt: 2025-01-28 00:47:44 -0000 (Tue, 28 Jan 2025) EndedAt: 2025-01-28 00:48:53 -0000 (Tue, 28 Jan 2025) EllapsedTime: 69.0 seconds RetCode: 0 Status: OK PackageFile: graphite_1.52.0.tar.gz PackageFileSize: 758.6 KiB