Package: graph Version: 1.84.1 Command: F:\biocbuild\bbs-3.20-bioc\R\bin\R.exe CMD INSTALL graph StartedAt: 2025-02-03 15:34:16 -0500 (Mon, 03 Feb 2025) EndedAt: 2025-02-03 15:35:46 -0500 (Mon, 03 Feb 2025) EllapsedTime: 89.9 seconds RetCode: 0 Status: OK