Package: graph Version: 1.84.1 Command: chmod a+r graph -R && F:\biocbuild\bbs-3.20-bioc\R\bin\R.exe CMD build --keep-empty-dirs --no-resave-data graph StartedAt: 2025-02-03 19:35:26 -0500 (Mon, 03 Feb 2025) EndedAt: 2025-02-03 19:36:55 -0500 (Mon, 03 Feb 2025) EllapsedTime: 89.2 seconds RetCode: 0 Status: OK PackageFile: graph_1.84.1.tar.gz PackageFileSize: 1.394 MiB