Package: graph Version: 1.84.1 Command: rm -rf graph.buildbin-libdir && mkdir graph.buildbin-libdir && F:\biocbuild\bbs-3.20-bioc\R\bin\R.exe CMD INSTALL --build --library=graph.buildbin-libdir graph_1.84.1.tar.gz StartedAt: 2025-02-04 08:39:11 -0500 (Tue, 04 Feb 2025) EndedAt: 2025-02-04 08:40:41 -0500 (Tue, 04 Feb 2025) EllapsedTime: 89.7 seconds RetCode: 0 Status: OK PackageFile: graph_1.84.1.zip PackageFileSize: 2.073 MiB