Package: graph Version: 1.84.1 Command: /Library/Frameworks/R.framework/Resources/bin/R CMD check --install=check:graph.install-out.txt --library=/Library/Frameworks/R.framework/Resources/library --no-vignettes --timings graph_1.84.1.tar.gz StartedAt: 2025-01-28 04:48:30 -0500 (Tue, 28 Jan 2025) EndedAt: 2025-01-28 04:50:29 -0500 (Tue, 28 Jan 2025) EllapsedTime: 118.9 seconds RetCode: 0 Status: OK CheckDir: graph.Rcheck Warnings: 0