Package: graph Version: 1.84.1 Command: /Library/Frameworks/R.framework/Resources/bin/R CMD build --keep-empty-dirs --no-resave-data graph StartedAt: 2025-01-28 00:57:08 -0500 (Tue, 28 Jan 2025) EndedAt: 2025-01-28 00:57:47 -0500 (Tue, 28 Jan 2025) EllapsedTime: 38.9 seconds RetCode: 0 Status: OK PackageFile: graph_1.84.1.tar.gz PackageFileSize: 1.435 MiB