Package: graph Version: 1.84.1 Command: rm -rf graph.buildbin-libdir && mkdir graph.buildbin-libdir && /Users/biocbuild/BBS/utils/build-universal.sh graph_1.84.1.tar.gz /Library/Frameworks/R.framework/Resources/bin/R graph.buildbin-libdir StartedAt: 2025-01-29 14:55:15 -0500 (Wed, 29 Jan 2025) EndedAt: 2025-01-29 14:55:32 -0500 (Wed, 29 Jan 2025) EllapsedTime: 16.6 seconds RetCode: 0 Status: OK PackageFile: graph_1.84.1.tgz PackageFileSize: 2.097 MiB