Package: granulator Version: 1.14.0 Command: F:\biocbuild\bbs-3.20-bioc\R\bin\R.exe CMD INSTALL granulator StartedAt: 2025-01-27 16:34:57 -0500 (Mon, 27 Jan 2025) EndedAt: 2025-01-27 16:35:28 -0500 (Mon, 27 Jan 2025) EllapsedTime: 30.4 seconds RetCode: 0 Status: OK