Package: granulator Version: 1.14.0 Command: /home/biocbuild/bbs-3.20-bioc/R/bin/R CMD INSTALL granulator StartedAt: 2025-02-03 15:49:42 -0500 (Mon, 03 Feb 2025) EndedAt: 2025-02-03 15:49:53 -0500 (Mon, 03 Feb 2025) EllapsedTime: 10.8 seconds RetCode: 0 Status: OK