Package: granulator Version: 1.14.0 Command: /Library/Frameworks/R.framework/Resources/bin/R CMD INSTALL granulator StartedAt: 2025-01-27 16:14:08 -0500 (Mon, 27 Jan 2025) EndedAt: 2025-01-27 16:14:36 -0500 (Mon, 27 Jan 2025) EllapsedTime: 28.2 seconds RetCode: 0 Status: OK