Package: granulator Version: 1.14.0 Command: rm -rf granulator.buildbin-libdir && mkdir granulator.buildbin-libdir && /Users/biocbuild/BBS/utils/build-universal.sh granulator_1.14.0.tar.gz /Library/Frameworks/R.framework/Resources/bin/R granulator.buildbin-libdir StartedAt: 2025-01-28 13:20:29 -0500 (Tue, 28 Jan 2025) EndedAt: 2025-01-28 13:21:13 -0500 (Tue, 28 Jan 2025) EllapsedTime: 43.6 seconds RetCode: 0 Status: OK PackageFile: granulator_1.14.0.tgz PackageFileSize: 1.372 MiB