Package: gpls Version: 1.78.0 Command: /Library/Frameworks/R.framework/Resources/bin/R CMD INSTALL gpls StartedAt: 2025-01-27 15:08:48 -0500 (Mon, 27 Jan 2025) EndedAt: 2025-01-27 15:08:59 -0500 (Mon, 27 Jan 2025) EllapsedTime: 11.2 seconds RetCode: 0 Status: OK