Package: goseq Version: 1.58.0 Command: /home/biocbuild/R/R/bin/R CMD INSTALL goseq StartedAt: 2025-01-27 21:32:34 -0000 (Mon, 27 Jan 2025) EndedAt: 2025-01-27 21:33:17 -0000 (Mon, 27 Jan 2025) EllapsedTime: 43.8 seconds RetCode: 0 Status: OK