Package: goseq Version: 1.58.0 Command: rm -rf goseq.buildbin-libdir && mkdir goseq.buildbin-libdir && F:\biocbuild\bbs-3.20-bioc\R\bin\R.exe CMD INSTALL --build --library=goseq.buildbin-libdir goseq_1.58.0.tar.gz StartedAt: 2025-02-04 08:38:44 -0500 (Tue, 04 Feb 2025) EndedAt: 2025-02-04 08:39:29 -0500 (Tue, 04 Feb 2025) EllapsedTime: 44.9 seconds RetCode: 0 Status: OK PackageFile: goseq_1.58.0.zip PackageFileSize: 1.737 MiB