Package: goseq Version: 1.58.0 Command: /Library/Frameworks/R.framework/Resources/bin/R CMD build --keep-empty-dirs --no-resave-data goseq StartedAt: 2025-01-27 19:23:05 -0500 (Mon, 27 Jan 2025) EndedAt: 2025-01-27 19:30:56 -0500 (Mon, 27 Jan 2025) EllapsedTime: 470.7 seconds RetCode: 0 Status: OK PackageFile: goseq_1.58.0.tar.gz PackageFileSize: 1.84 MiB