Package: goseq Version: 1.58.0 Command: rm -rf goseq.buildbin-libdir && mkdir goseq.buildbin-libdir && /Users/biocbuild/BBS/utils/build-universal.sh goseq_1.58.0.tar.gz /Library/Frameworks/R.framework/Resources/bin/R goseq.buildbin-libdir StartedAt: 2025-04-02 14:36:40 -0400 (Wed, 02 Apr 2025) EndedAt: 2025-04-02 14:37:26 -0400 (Wed, 02 Apr 2025) EllapsedTime: 45.6 seconds RetCode: 0 Status: OK PackageFile: goseq_1.58.0.tgz PackageFileSize: 1.884 MiB