Package: goTools Version: 1.80.0 Command: /home/biocbuild/R/R/bin/R CMD build --keep-empty-dirs --no-resave-data goTools StartedAt: 2025-01-28 00:44:58 -0000 (Tue, 28 Jan 2025) EndedAt: 2025-01-28 00:45:21 -0000 (Tue, 28 Jan 2025) EllapsedTime: 23.0 seconds RetCode: 0 Status: OK PackageFile: goTools_1.80.0.tar.gz PackageFileSize: 234.7 KiB