Package: goTools Version: 1.80.0 Command: F:\biocbuild\bbs-3.20-bioc\R\bin\R.exe CMD INSTALL goTools StartedAt: 2025-01-27 15:57:08 -0500 (Mon, 27 Jan 2025) EndedAt: 2025-01-27 15:57:23 -0500 (Mon, 27 Jan 2025) EllapsedTime: 15.4 seconds RetCode: 0 Status: OK