Package: goTools Version: 1.80.0 Command: chmod a+r goTools -R && F:\biocbuild\bbs-3.20-bioc\R\bin\R.exe CMD build --keep-empty-dirs --no-resave-data goTools StartedAt: 2025-01-27 19:20:21 -0500 (Mon, 27 Jan 2025) EndedAt: 2025-01-27 19:20:51 -0500 (Mon, 27 Jan 2025) EllapsedTime: 30.0 seconds RetCode: 0 Status: OK PackageFile: goTools_1.80.0.tar.gz PackageFileSize: 104.7 KiB